BEGIN:VCALENDAR
VERSION:2.0
PRODID:-//hacksw/handcal//NONSGML v1.0//EN
CALSCALE:GREGORIAN
BEGIN:VEVENT
DTSTART:20251108T113000
DTEND:20251108T120000
UID:String Quartet | Live performance08/11/2025 11:30-08/11/2025 12:00
DESCRIPTION:String chamber ensemble
URL: https://www.southamptonartshumfest.co.uk/
SUMMARY:String Quartet | Live performance
END:VEVENT
END:VCALENDAR